View In:
ArcGIS JavaScript
ArcGIS Online Map Viewer
ArcGIS Earth
Service Description: Terrain/LiDAR_Slope_Raster_class
Name: Terrain/LiDAR_Slope_Raster_class
Description:
Single Fused Map Cache: false
Extent:
XMin: 179506.72678292295
YMin: 87022.79287662788
XMax: 457411.726782923
YMax: 456937.7928766279
Spatial Reference: 6827
(6827)
LatestVCSWkid(0)
Initial Extent:
XMin: 179506.72678292295
YMin: 87022.79287662788
XMax: 457411.726782923
YMax: 456937.7928766279
Spatial Reference: 6827
(6827)
LatestVCSWkid(0)
Full Extent:
XMin: 179506.72678292295
YMin: 87022.79287662788
XMax: 457411.726782923
YMax: 456937.7928766279
Spatial Reference: 6827
(6827)
LatestVCSWkid(0)
Pixel Size X: 3.0
Pixel Size Y: 3.0
Band Count: 1
Pixel Type: S32
RasterFunction Infos: {"rasterFunctionInfos": [{
"name": "None",
"description": "",
"help": ""
}]}
Mensuration Capabilities: Basic
Inspection Capabilities:
Has Histograms: true
Has Colormap: false
Has Multi Dimensions : false
Rendering Rule:
Min Scale: 0
Max Scale: 0
Copyright Text:
Service Data Type: esriImageServiceDataTypeGeneric
Min Values: 1
Max Values: 5
Mean Values: 2.7382191187311022
Standard Deviation Values: 1.6518981516959954
Object ID Field:
Fields:
None
Default Mosaic Method: Center
Allowed Mosaic Methods:
SortField:
SortValue: null
Mosaic Operator: First
Default Compression Quality: 75
Default Resampling Method: Bilinear
Max Record Count: null
Max Image Height: 4100
Max Image Width: 15000
Max Download Image Count: null
Max Mosaic Image Count: null
Allow Raster Function: true
Allow Copy: true
Allow Analysis: true
Allow Compute TiePoints: false
Supports Statistics: false
Supports Advanced Queries: false
Use StandardizedQueries: true
Raster Type Infos:
Name: Raster Dataset
Description: Supports all ArcGIS Raster Datasets
Help:
Has Raster Attribute Table: true
Edit Fields Info: null
Ownership Based AccessControl For Rasters: null
Child Resources:
Info
Raster Attribute Table
Histograms
Statistics
Key Properties
Legend
Raster Function Infos
Supported Operations:
Export Image
Identify
Measure
Compute Histograms
Compute Statistics Histograms
Get Samples
Compute Class Statistics
Query Boundary
Compute Pixel Location
Compute Angles
Validate
Project