{
 "currentVersion": 11.2,
 "serviceDescription": "Terrain/LiDAR_Slope_Raster_class",
 "name": "Terrain/LiDAR_Slope_Raster_class",
 "description": "",
 "extent": {
  "xmin": 179506.72678292295,
  "ymin": 87022.79287662788,
  "xmax": 457411.726782923,
  "ymax": 456937.7928766279,
  "spatialReference": {
   "wkid": 6827,
   "latestWkid": 6827
  }
 },
 "initialExtent": {
  "xmin": 179506.72678292295,
  "ymin": 87022.79287662788,
  "xmax": 457411.726782923,
  "ymax": 456937.7928766279,
  "spatialReference": {
   "wkid": 6827,
   "latestWkid": 6827
  }
 },
 "fullExtent": {
  "xmin": 179506.72678292295,
  "ymin": 87022.79287662788,
  "xmax": 457411.726782923,
  "ymax": 456937.7928766279,
  "spatialReference": {
   "wkid": 6827,
   "latestWkid": 6827
  }
 },
 "sortableFields": "",
 "bandCount": 1,
 "pixelType": "S32",
 "minValues": [
  1
 ],
 "maxValues": [
  5
 ],
 "meanValues": [
  2.7382191187311022
 ],
 "stdvValues": [
  1.6518981516959954
 ],
 "hasMultidimensions": false,
 "pixelSizeX": 3,
 "pixelSizeY": 3,
 "meanPixelSize": 0.9144000000000001,
 "datasetFormat": "FGDBR",
 "uncompressedSize": 45689434700,
 "blockWidth": 128,
 "blockHeight": 128,
 "compressionType": "LZ77",
 "bandNames": [
  "Band_1"
 ],
 "allowCopy": true,
 "allowAnalysis": true,
 "itemAccess": false,
 "inspectionCapabilities": "",
 "minPixelSize": 0,
 "maxPixelSize": 0,
 "copyrightText": "",
 "serviceDataType": "esriImageServiceDataTypeGeneric",
 "serviceSourceType": "esriImageServiceSourceTypeDataset",
 "objectIdField": "",
 "fields": [],
 "capabilities": "Image,Metadata,Mensuration",
 "defaultMosaicMethod": "Center",
 "allowedMosaicMethods": "",
 "sortField": "",
 "sortValue": null,
 "sortAscending": true,
 "mosaicOperator": "First",
 "defaultCompressionQuality": 75,
 "defaultResamplingMethod": "Bilinear",
 "maxImageHeight": 4100,
 "maxImageWidth": 15000,
 "allowRasterFunction": true,
 "rasterFunctionInfos": [
  {
   "name": "None",
   "description": "",
   "help": ""
  }
 ],
 "rasterTypeInfos": [
  {
   "name": "Raster Dataset",
   "description": "Supports all ArcGIS Raster Datasets",
   "help": ""
  }
 ],
 "mensurationCapabilities": "Basic",
 "hasHistograms": true,
 "hasColormap": false,
 "hasRasterAttributeTable": true,
 "minScale": 0,
 "maxScale": 0,
 "exportTilesAllowed": false,
 "supportsStatistics": false,
 "supportsAdvancedQueries": false,
 "editFieldsInfo": null,
 "ownershipBasedAccessControlForRasters": null,
 "allowComputeTiePoints": false,
 "useStandardizedQueries": true,
 "advancedQueryCapabilities": {
  "useStandardizedQueries": true,
  "supportsStatistics": false,
  "supportsOrderBy": false,
  "supportsDistinct": false,
  "supportsPagination": false
 },
 "spatialReference": {
  "wkid": 6827,
  "latestWkid": 6827
 }
}
